BEGIN:VCALENDAR
VERSION:2.0
PRODID:-//ChamberMaster//Event Calendar 2.0//EN
METHOD:PUBLISH
X-PUBLISHED-TTL:P3D
REFRESH-INTERVAL:P3D
CALSCALE:GREGORIAN
BEGIN:VEVENT
DTSTART:20210928T210000Z
DTEND:20210928T230000Z
X-MICROSOFT-CDO-ALLDAYEVENT:FALSE
SUMMARY:September 2021 BASH- Business and Social Hour
DESCRIPTION:Join us for the next BASH (Business and Social Hour)\, an evening opportunity for networking and fun.  Food and first drink included with admission fee.  REGISTER TODAY!  Member admission fee is $15 and non-member admission fee $20. \n\n\n\nThe BASH will be held at\n\nBlake's of Braselton\n\n36 Frances St.\n\nBraselton\, GA 30517\n\n\n\nRegister to be a BASH Sponsor for $100\, or sign up for a display table for $25!\n\n\n\n \nREGISTER TODAY!\n \n\nABOUT BASH\n\n \n\nBusiness And Social Hour (BASH) is designed to bring the host exposure in the business community\, bring Chamber members together for networking\, and to generate leads for attendees. The value of this service to our members is illustrated by their enthusiastic participation in our BASH events. As host of a monthly BASH\, you will have the opportunity to showcase your organization to other business professionals in the area.\n\n \n\nWould you like to host area business professionals in your place of business for an after hours networking social? Hosting a Business and Social Hour (BASH) is easy. Hosts can have an office space to offer for the event\, be a restaurant that would like to host or several businesses could partner and host together! To become a BASH host\, please contact Randy Winfield or David Foster of the Chamber's Small Business Development Committee. randy@winfieldrealtygroup.com  davidf@jfgatl.com
X-ALT-DESC;FMTTYPE=text/html:Join us for the next BASH (Business and Social Hour)\, an evening opportunity for networking and fun.&nbsp\; Food and first drink included with admission fee.&nbsp\; REGISTER TODAY!&nbsp\; Member admission fee is $15 and non-member admission fee $20.&nbsp\;<br />\n<br />\n<strong>The BASH will be held at<br />\nBlake&#39\;s of Braselton<br />\n36 Frances St.<br />\nBraselton\, GA 30517<br />\n<br />\nRegister to be a BASH Sponsor for $100\, or sign up for a display table for $25!</strong><br />\n<br />\n&nbsp\;\n<div style="font-family: Arial\, Verdana\, Helvetica\, sans-serif\; font-size: 14px\; text-align: center\; white-space: pre-wrap\;"><span style="font-size:18px\;"><font color="#6d612d"><b>REGISTER TODAY!</b></font></span></div>\n&nbsp\;\n\n<div style="color: rgb(0\, 0\, 0)\; font-family: Arial\, Verdana\, Helvetica\, sans-serif\; font-size: 14px\; text-align: center\; white-space: pre-wrap\;"><span style="color: rgb(109\, 97\, 45)\; font-weight: bold\;">ABOUT BASH</span></div>\n\n<div style="color: rgb(0\, 0\, 0)\; font-family: Arial\, Verdana\, Helvetica\, sans-serif\; font-size: 14px\; text-align: center\; white-space: pre-wrap\;">&nbsp\;</div>\n\n<div style="color: rgb(0\, 0\, 0)\; font-family: Arial\, Verdana\, Helvetica\, sans-serif\; font-size: 14px\; white-space: pre-wrap\;"><span style="font-size:14px\;"><span style="font-family:arial\;"><span style="color: rgb(109\, 97\, 45)\;">Business And Social Hour (BASH) is designed to bring the host exposure in the business community\, bring Chamber members together for networking\, and to generate leads for attendees.&nbsp\;The value of this service to our members is illustrated by their enthusiastic participation in our BASH events.&nbsp\;As host of a monthly BASH\, you will have the opportunity to showcase your organization to other business professionals in the area.</span></span></span></div>\n\n<div><span style="font-size:14px\;"><span style="font-family:arial\;">&nbsp\;</span></span></div>\n\n<div style="color: rgb(0\, 0\, 0)\; font-family: Arial\, Verdana\, Helvetica\, sans-serif\; font-size: 14px\; white-space: pre-wrap\;"><span style="font-size:14px\;"><span style="font-family:arial\;"><span style="color: rgb(109\, 97\, 45)\;">Would you like to host area business professionals in your place of business for an after hours networking social? </span></span></span><span style="color: rgb(109\, 97\, 45)\; font-family: arial\;">Hosting a Business and Social Hour (BASH) is easy. Hosts can have an office space to offer for the event\, be a restaurant that would like to host or several businesses could partner and host together! To become a BASH host\, please contact Randy Winfield or David Foster of the Chamber&#39\;s Small Business Development Committee. </span><span font-size:="" segoe="" style="font-family: wf_segoe-ui_normal\, " white-space:=""><span style="font-size:14px\;"><span style="font-family:arial\;"><a href="mailto:randy@winfieldrealtygroup.com">randy@winfieldrealtygroup.com</a>&nbsp\; <a href="mailto:davidf@jfgatl.com">davidf@jfgatl.com</a></span></span></span></div>\n
LOCATION:Blake's of Braselton
UID:e.381.4349
SEQUENCE:3
DTSTAMP:20260421T184741Z
URL:https://business.jacksoncountyga.com/events/details/september-2021-bash-business-and-social-hour-4349
END:VEVENT

END:VCALENDAR
