BEGIN:VCALENDAR
VERSION:2.0
PRODID:-//ChamberMaster//Event Calendar 2.0//EN
METHOD:PUBLISH
X-PUBLISHED-TTL:P3D
REFRESH-INTERVAL:P3D
CALSCALE:GREGORIAN
BEGIN:VEVENT
DTSTART:20151030T200000Z
DTEND:20151030T220000Z
X-MICROSOFT-CDO-ALLDAYEVENT:FALSE
SUMMARY:Jefferson Halloween Walk
DESCRIPTION:Calling all ghosts and ghouls! Come on Downtown for some spooky fun on October 30th for our annual Jefferson Halloween Walk. Ages 12 and under can trick-or-treat at the downtown businesses from 4-6pm. Costumes are greatly encouraged.
X-ALT-DESC;FMTTYPE=text/html:Calling all ghosts and ghouls! Come on Downtown for some spooky fun on October 30th for our annual Jefferson Halloween Walk. Ages 12 and under can trick-or-treat at the downtown businesses from 4-6pm. Costumes are greatly encouraged.
LOCATION:Downtown Jefferson
UID:e.381.2694
SEQUENCE:3
DTSTAMP:20260421T084218Z
URL:https://business.jacksoncountyga.com/events/details/jefferson-halloween-walk-10-30-2015-2694
END:VEVENT

END:VCALENDAR
